-0.00000000000000
-0.09000000000000
-0.09000000000000
0.00000000000000
689237.58678674349000
264126.59831412107000
