-0.00000000000000
-0.09000000000000
-0.09000000000000
0.00000000000000
689221.58678674349000
274437.59831412107000
