-0.00000000000000
-0.09000000000000
-0.09000000000000
0.00000000000000
689223.58678674349000
277163.59831412107000
