-0.00000000000000
-0.09000000000000
-0.09000000000000
0.00000000000000
689221.58678674349000
283002.59831412107000
