-0.00000000000000
-0.09000000000000
-0.09000000000000
0.00000000000000
689186.58678674349000
284892.59831412107000
