0.00000000000000
0.09000000000000
0.09000000000000
-0.00000000000000
686389.32570998161000
262164.82295913022000
