0.00000000000000
0.09000000000000
0.09000000000000
-0.00000000000000
686393.32570998161000
265335.82295913022000
