0.00000000000000
0.09000000000000
0.09000000000000
-0.00000000000000
686401.32570998161000
267542.82295913022000
