0.00000000000000
0.09000000000000
0.09000000000000
-0.00000000000000
686413.32570998161000
276126.82295913022000
