-0.00000000000000
-0.09000000000000
-0.09000000000000
0.00000000000000
687039.67429001839000
254727.17704086981000
