-0.00000000000000
-0.09000000000000
-0.09000000000000
0.00000000000000
687045.67429001839000
256479.17704086981000
