-0.00000000000000
-0.09000000000000
-0.09000000000000
0.00000000000000
687047.67429001839000
257073.17704086981000
