-0.00000000000000
-0.09000000000000
-0.09000000000000
0.00000000000000
687059.67429001839000
261756.17704086981000
