-0.00000000000000
-0.09000000000000
-0.09000000000000
0.00000000000000
687061.67429001839000
265548.17704086978000
