-0.00000000000000
-0.09000000000000
-0.09000000000000
0.00000000000000
687079.67429001839000
270908.17704086978000
