-0.00000000000000
-0.09000000000000
-0.09000000000000
0.00000000000000
687087.67429001839000
272664.17704086978000
