0.00000000000000
0.09000000000000
0.09000000000000
-0.00000000000000
684234.32570998161000
251397.82295913019000
