0.00000000000000
0.09000000000000
0.09000000000000
-0.00000000000000
684242.32570998161000
252044.82295913019000
