0.00000000000000
0.09000000000000
0.09000000000000
-0.00000000000000
684250.32570998161000
253957.82295913019000
