0.00000000000000
0.09000000000000
0.09000000000000
-0.00000000000000
684258.32570998161000
265184.82295913022000
