0.00000000000000
0.09000000000000
0.09000000000000
-0.00000000000000
684270.32570998161000
266339.82295913022000
