-0.00000000000000
-0.09000000000000
-0.09000000000000
0.00000000000000
684837.67429001839000
252758.17704086981000
