-0.00000000000000
-0.09000000000000
-0.09000000000000
0.00000000000000
684834.67429001839000
259131.17704086981000
