-0.00000000000000
-0.09000000000000
-0.09000000000000
0.00000000000000
684841.67429001839000
260318.17704086981000
