-0.00000000000000
-0.09000000000000
-0.09000000000000
0.00000000000000
684824.67429001839000
260934.17704086981000
