-0.00000000000000
-0.09000000000000
-0.09000000000000
0.00000000000000
684841.67429001839000
267198.17704086978000
