-0.00000000000000
-0.09000000000000
-0.09000000000000
0.00000000000000
684864.67429001839000
271034.17704086978000
