-0.00000000000000
-0.09000000000000
-0.09000000000000
0.00000000000000
684877.67429001839000
274024.17704086978000
