0.00000000000000
0.09000000000000
0.09000000000000
-0.00000000000000
682054.32570998161000
253080.82295913019000
