0.00000000000000
0.09000000000000
0.09000000000000
-0.00000000000000
682031.32570998161000
258707.82295913019000
