0.00000000000000
0.09000000000000
0.09000000000000
-0.00000000000000
682051.32570998161000
262042.82295913019000
