0.00000000000000
0.09000000000000
0.09000000000000
-0.00000000000000
682059.32570998161000
267104.82295913022000
