0.00000000000000
0.09000000000000
0.09000000000000
-0.00000000000000
682073.32570998161000
273568.82295913022000
