-0.00000000000000
-0.09000000000000
-0.09000000000000
0.00000000000000
682663.67429001839000
263377.17704086978000
