-0.00000000000000
-0.09000000000000
-0.09000000000000
0.00000000000000
682691.67429001839000
269382.17704086978000
