0.00000000000000
0.09000000000000
0.09000000000000
-0.00000000000000
679825.32570998161000
254570.82295913019000
