0.00000000000000
0.09000000000000
0.09000000000000
-0.00000000000000
679843.32570998161000
256999.82295913019000
