0.00000000000000
0.09000000000000
0.09000000000000
-0.00000000000000
679838.32570998161000
264449.82295913022000
