0.00000000000000
0.09000000000000
0.09000000000000
-0.00000000000000
679869.32570998161000
269894.82295913022000
