0.00000000000000
0.09000000000000
0.09000000000000
-0.00000000000000
679872.32570998161000
271849.82295913022000
