-0.00000000000000
-0.09000000000000
-0.09000000000000
0.00000000000000
680438.67429001839000
259989.17704086981000
