-0.00000000000000
-0.09000000000000
-0.09000000000000
0.00000000000000
680446.67429001839000
260680.17704086981000
