-0.00000000000000
-0.09000000000000
-0.09000000000000
0.00000000000000
680462.67429001839000
271479.17704086978000
