-0.00000000000000
-0.09000000000000
-0.09000000000000
0.00000000000000
680478.67429001839000
272614.17704086978000
