0.00000000000000
0.09000000000000
0.09000000000000
-0.00000000000000
677628.32570998161000
259138.82295913019000
