0.00000000000000
0.09000000000000
0.09000000000000
-0.00000000000000
677634.32570998161000
261495.82295913019000
