0.00000000000000
0.09000000000000
0.09000000000000
-0.00000000000000
677648.32570998161000
267206.82295913022000
