0.00000000000000
0.09000000000000
0.09000000000000
-0.00000000000000
677656.32570998161000
271036.82295913022000
