0.00000000000000
0.09000000000000
0.09000000000000
-0.00000000000000
677666.32570998161000
272338.82295913022000
