-0.00000000000000
-0.09000000000000
-0.09000000000000
0.00000000000000
678294.67429001839000
261737.17704086981000
